BEGIN:VCALENDAR
VERSION:2.0
PRODID:-//EMPHN - ECPv6.15.20//NONSGML v1.0//EN
CALSCALE:GREGORIAN
METHOD:PUBLISH
X-WR-CALNAME:EMPHN
X-ORIGINAL-URL:https://emphn.org.au
X-WR-CALDESC:Events for EMPHN
REFRESH-INTERVAL;VALUE=DURATION:PT1H
X-Robots-Tag:noindex
X-PUBLISHED-TTL:PT1H
BEGIN:VTIMEZONE
TZID:Australia/Melbourne
BEGIN:STANDARD
TZOFFSETFROM:+1100
TZOFFSETTO:+1000
TZNAME:AEST
DTSTART:20240406T160000
END:STANDARD
BEGIN:DAYLIGHT
TZOFFSETFROM:+1000
TZOFFSETTO:+1100
TZNAME:AEDT
DTSTART:20241005T160000
END:DAYLIGHT
BEGIN:STANDARD
TZOFFSETFROM:+1100
TZOFFSETTO:+1000
TZNAME:AEST
DTSTART:20250405T160000
END:STANDARD
BEGIN:DAYLIGHT
TZOFFSETFROM:+1000
TZOFFSETTO:+1100
TZNAME:AEDT
DTSTART:20251004T160000
END:DAYLIGHT
BEGIN:STANDARD
TZOFFSETFROM:+1100
TZOFFSETTO:+1000
TZNAME:AEST
DTSTART:20260404T160000
END:STANDARD
BEGIN:DAYLIGHT
TZOFFSETFROM:+1000
TZOFFSETTO:+1100
TZNAME:AEDT
DTSTART:20261003T160000
END:DAYLIGHT
END:VTIMEZONE
BEGIN:VEVENT
DTSTART;TZID=Australia/Melbourne:20250826T180000
DTEND;TZID=Australia/Melbourne:20250826T203000
DTSTAMP:20260423T144306
CREATED:20250812T034709Z
LAST-MODIFIED:20250818T043507Z
UID:10000370-1756231200-1756240200@emphn.org.au
SUMMARY:TROPHI Translation Forum
DESCRIPTION:Date\n\n\n\n\n\n\n\n\n\nVenue\n\n\n\n\n\n\n\n\n\nOrganiser\n\n\n\n\n\n\n\n\n\n\n\n\n\n\n\n\n\nThe TROPHI translation forum is an event to connect with other researchers and clinicians in the outer east of Melbourne\, share your ideas and get inspired!  \n\n\n\nWe will see some research happening within TROPHI and discuss forming a Community of Practice. \n\n\n\nIntroduction to TROPHI and demonstration of how research can make a difference to practices and communities by bringing evidence to life.  \n\n\n\nAims: \n\n\n\n\nDiscover local research happening across the TROPHI region\n\n\n\n Share ideas and build meaningful connections\n\n\n\nDiscuss bringing research to life in your practice
URL:https://emphn.org.au/event/trophi-translation-forum/
LOCATION:Manningham Function Centre\, 669 Doncaster Road\, Doncaster\, VIC\, 3108\, Australia
CATEGORIES:External event,Health care professional
ORGANIZER;CN="TROPHI":MAILTO:elizabeth.kennedy@racgp.org.au
END:VEVENT
BEGIN:VEVENT
DTSTART;TZID=Australia/Melbourne:20250515T080000
DTEND;TZID=Australia/Melbourne:20250515T150000
DTSTAMP:20260423T144306
CREATED:20250415T004315Z
LAST-MODIFIED:20250506T225904Z
UID:10000250-1747296000-1747321200@emphn.org.au
SUMMARY:Practice Manager Education Day
DESCRIPTION:Date\n\n\n\n\n\n\n\n\n\nVenue\n\n\n\n\n\n\n\n\n\nOrganiser\n\n\n\n\n\n\n\n\n\n\n\n\n\n\n\n\n\nEastern Melbourne PHN invites Practice Managers to a full-day event of education and networking. \n\n\n\nPlease note: Registration from 8:00am\, with the event commencing promptly at 8:30am. \n\n\n\nFeatured Speakers: \n\n\n\nHR Triage Workshop: Prioritising Practice Issues Through Peer InsightJoin George Sotiris\, Founder and Director of HR in Health\, as he unpacks the complexities of the healthcare employment landscape.  \n\n\n\nLearning Objectives: \n\n\n\n\nCollaborate with peers to identify\, discuss\, and prioritise common HR issues faced in medical practices.\n\n\n\nBuild confidence in triaging performance\, conduct\, and cultural matters through shared experiences and real-life examples.\n\n\n\nGain clarity on recent HR and compliance updates relevant to your practice in 2025.\n\n\n\n\nAVANT – AI and Cyber Security in Medical PracticeCaitlin Burns and Emily SwanExplore the evolving role of AI in healthcare and how to safely and effectively implement it into your practice. Learn about critical considerations around patient privacy\, data security\, and cost when integrating AI into clinical settings.National Lung Cancer Screening Program – Commencing July 2025The National Lung Cancer Screening Program (NLCSP) was announced as part of the 2023–24 Federal Budget\, with the Australian Government committing $263.8 million to establish the program. Commencing this July 2025\, the program aims to improve health outcomes for Australians by detecting lung cancer at an earlier\, more treatable stage. It is being designed with a strong focus on equity\, accessibility\, and cultural safety\, particularly to support those at highest risk of developing lung cancer. \n\n\n\nLearn more about the NLCSP from a variety of speakers: \n\n\n\n\nRoselie Moore\, Lung Cancer Screening and Cancer Infrastructure Branch\, Department of Health and Aged Care\n\n\n\nPeter Bligh\, Director Cancer\, National Aboriginal Community Controlled Health Organisation (NACCHO)\n\n\n\nProfessor Vivienne Milch\, Medical Director\, Cancer Australia\n\n\n\nJohn Lee\, Telstra Health\, National Cancer Screening Register\n\n\n\nDr Hashinee Weraduwage\, HealthPathways Clinical Editor\n\n\n\n\nMBS Chronic Disease Management Changes – Are You Prepared?Wendy O’Meara\, Primary Care ConsultantStay informed about key updates to MyMedicare\, Chronic Disease Management\, and Aged Care incentives. Wendy will guide you through the changes and provide practical tips to ensure your practice remains ahead of the curve. \n\n\n\nNamarata Malhotra – AAPM Practice Manager of the Year (2024)Hear from Namarata as she shares her journey of skilled leadership\, clear vision and dedication – driving improved patient outcomes and fostering a strong\, collaborative culture at her practice.EMPHN will also share the latest updates on programs and services designed to support general practices across the catchment. \n\n\n\nDon’t miss this opportunity to connect with peers\, stay ahead of industry changes\, and enhance your professional knowledge.
URL:https://emphn.org.au/event/practice-manager-education-day/
LOCATION:Manningham Function Centre\, 669 Doncaster Road\, Doncaster\, VIC\, 3108\, Australia
CATEGORIES:EMPHN event,General practice,Practice manager
ORGANIZER;CN="EMPHN":MAILTO:events@emphn.org.au
END:VEVENT
BEGIN:VEVENT
DTSTART;TZID=Australia/Melbourne:20250430T080000
DTEND;TZID=Australia/Melbourne:20250430T153000
DTSTAMP:20260423T144306
CREATED:20250317T215333Z
LAST-MODIFIED:20250325T045916Z
UID:10000210-1746000000-1746027000@emphn.org.au
SUMMARY:Practice Nurse Education Day
DESCRIPTION:Date\n\n\n\n\n\n\n\n\n\nVenue\n\n\n\n\n\n\n\n\n\nOrganiser\n\n\n\n\n\n\n\n\n\n\n\n\n\n\n\n\n\nEastern Melbourne PHN invites Practice Nurses to a full-day event of education and networking. \n\n\n\nFeatured speakers: \n\n\n\nMaking the link between CKD\, diabetes and CVD \n\n\n\nKidney Health Australia – Joanne (Pei) Kok \n\n\n\n\nLearn how CKD\, diabetes\, and cardiovascular disease interact\n\n\n\nUnderstand CKD risk factors and best practice assessments\n\n\n\nIdentify appropriate clinical action plans based on CKD stages\n\n\n\n\nPrimary Care Nurses Role in Mental Health \n\n\n\nCDM Plus – Jane Calligeros\, CEO \n\n\n\n\nUnderstand the impact of Complex Chronic Conditions on a patients Mental Health\n\n\n\nNavigate HealthPathways and MBS billing for mental health services\n\n\n\nEnhance primary care mental health support with practical strategies\n\n\n\n\nManaging wounds in community settings and cost-effective management strategies \n\n\n\nWoundCareServices – Jan Rice \n\n\n\n\nStage and manage skin tears effectively\n\n\n\nIdentify best practice care for venous and arterial ulcers\n\n\n\nRecognise early signs of skin cancers and optimal dressing choices\n\n\n\n\nEMPHN will also provide updates on various programs and services to support your practice. \n\n\n\nDon’t miss this opportunity to connect with peers and enhance your professional knowledge. \n\n\n\nKidney Health Australia’s education program is supported by a sponsorship provided by Boehringer Ingelheim and Eli Lilly Alliance.
URL:https://emphn.org.au/event/practice-nurse-education-day/
LOCATION:Manningham Function Centre\, 669 Doncaster Road\, Doncaster\, VIC\, 3108\, Australia
CATEGORIES:EMPHN event,General practice,Practice nurse
ORGANIZER;CN="EMPHN":MAILTO:events@emphn.org.au
END:VEVENT
BEGIN:VEVENT
DTSTART;TZID=Australia/Melbourne:20250403T173000
DTEND;TZID=Australia/Melbourne:20250403T203000
DTSTAMP:20260423T144306
CREATED:20250221T051329Z
LAST-MODIFIED:20250221T051332Z
UID:10000184-1743701400-1743712200@emphn.org.au
SUMMARY:IAR-DST for mental healthcare training & GP networking event
DESCRIPTION:Date\n\n\n\n\n\n\n\n\n\nVenue\n\n\n\n\n\n\n\n\n\nOrganiser\n\n\n\n\n\n\n\n\n\n\n\n\n\n\n\n\n\nJoin us for a networking event and light meal to foster collaboration among GPs and healthcare professionals in the region. \n\n\n\nGPs can complete the Initial Assessment and Referral Decision Support Tool (IAR-DST) training and hear from the After Hours Mental Health Nursing Service team about supports available. \n\n\n\nEvent start time: 5.30pm arrival\, sign in\, light meal and networking\, 6.00pm event start with address from the After Hours Mental Health Nursing Service. IAR Mental Health Training to commence at 6.20pm concluding by 8.30pm. \n\n\n\nA once off $300 payment (excl. GST) is available for eligible GPs who complete the two-hour training. \n\n\n\nRACGP CPD Approved Activity: 1.5 hours Education Activity and 0.5 Reviewing Performance.
URL:https://emphn.org.au/event/iar-dst-for-mental-healthcare-training-gp-networking-event-2/
LOCATION:Manningham Function Centre\, 669 Doncaster Road\, Doncaster\, VIC\, 3108\, Australia
CATEGORIES:EMPHN event,General practice,General practitioner
ORGANIZER;CN="EMPHN":MAILTO:events@emphn.org.au
END:VEVENT
END:VCALENDAR