BEGIN:VCALENDAR
VERSION:2.0
PRODID:-//EMPHN - ECPv6.15.20//NONSGML v1.0//EN
CALSCALE:GREGORIAN
METHOD:PUBLISH
X-WR-CALNAME:EMPHN
X-ORIGINAL-URL:https://emphn.org.au
X-WR-CALDESC:Events for EMPHN
REFRESH-INTERVAL;VALUE=DURATION:PT1H
X-Robots-Tag:noindex
X-PUBLISHED-TTL:PT1H
BEGIN:VTIMEZONE
TZID:Australia/Melbourne
BEGIN:STANDARD
TZOFFSETFROM:+1100
TZOFFSETTO:+1000
TZNAME:AEST
DTSTART:20250405T160000
END:STANDARD
BEGIN:DAYLIGHT
TZOFFSETFROM:+1000
TZOFFSETTO:+1100
TZNAME:AEDT
DTSTART:20251004T160000
END:DAYLIGHT
BEGIN:STANDARD
TZOFFSETFROM:+1100
TZOFFSETTO:+1000
TZNAME:AEST
DTSTART:20260404T160000
END:STANDARD
BEGIN:DAYLIGHT
TZOFFSETFROM:+1000
TZOFFSETTO:+1100
TZNAME:AEDT
DTSTART:20261003T160000
END:DAYLIGHT
BEGIN:STANDARD
TZOFFSETFROM:+1100
TZOFFSETTO:+1000
TZNAME:AEST
DTSTART:20270403T160000
END:STANDARD
BEGIN:DAYLIGHT
TZOFFSETFROM:+1000
TZOFFSETTO:+1100
TZNAME:AEDT
DTSTART:20271002T160000
END:DAYLIGHT
END:VTIMEZONE
BEGIN:VEVENT
DTSTART;TZID=Australia/Melbourne:20260514T084500
DTEND;TZID=Australia/Melbourne:20260514T163000
DTSTAMP:20260424T225827
CREATED:20260409T224836Z
LAST-MODIFIED:20260424T064625Z
UID:10000595-1778748300-1778776200@emphn.org.au
SUMMARY:2026 Immunisation Professional Development Conference (free event)
DESCRIPTION:Date\n\n\n\n\n\n\n\n\n\nVenue\n\n\n\n\n\n\n\n\n\nOrganiser\n\n\n\n\n\n\n\n\n\n\n\n\n\n\n\n\n\nRegistrations are open for Benchmarque Group’s 2026 Immunisation Professional Development Conferences in Sydney\, Melbourne and Brisbane. – Thursday 30 April | Sydney – Thursday 14 May | Melbourne – Thursday 21 May | Brisbane  \n\n\n\nDuring the one day in-person event\, you will have the opportunity to attend a range of interactive sessions including vaccine hesitancy\, travel vaccinations\, priority populations and an update on winter respiratory conditions in advance of the 2026 season.  \n\n\n\nWith our new agenda\, you can attend every session and accrue 8 hours of CPD.  \n\n\n\nThese events are free\, but registration is required.  \n\n\n\nRegister now to secure your spot.
URL:https://emphn.org.au/event/2026-immunisation-professional-development-conference-free-event/
LOCATION:Adina Apartment Hotel Pentridge Melbourne\, 1 Pentridge Blvd\, Fawkner\, Victoria\, Australia
CATEGORIES:External event,General practice,Health care professional,Pharmacy
ORGANIZER;CN="Benchmarque Group":MAILTO:courses@benchmarquegroup.com.au
END:VEVENT
END:VCALENDAR