BEGIN:VCALENDAR
VERSION:2.0
PRODID:-//EMPHN - ECPv6.15.20//NONSGML v1.0//EN
CALSCALE:GREGORIAN
METHOD:PUBLISH
X-WR-CALNAME:EMPHN
X-ORIGINAL-URL:https://emphn.org.au
X-WR-CALDESC:Events for EMPHN
REFRESH-INTERVAL;VALUE=DURATION:PT1H
X-Robots-Tag:noindex
X-PUBLISHED-TTL:PT1H
BEGIN:VTIMEZONE
TZID:Australia/Melbourne
BEGIN:STANDARD
TZOFFSETFROM:+1100
TZOFFSETTO:+1000
TZNAME:AEST
DTSTART:20250405T160000
END:STANDARD
BEGIN:DAYLIGHT
TZOFFSETFROM:+1000
TZOFFSETTO:+1100
TZNAME:AEDT
DTSTART:20251004T160000
END:DAYLIGHT
BEGIN:STANDARD
TZOFFSETFROM:+1100
TZOFFSETTO:+1000
TZNAME:AEST
DTSTART:20260404T160000
END:STANDARD
BEGIN:DAYLIGHT
TZOFFSETFROM:+1000
TZOFFSETTO:+1100
TZNAME:AEDT
DTSTART:20261003T160000
END:DAYLIGHT
BEGIN:STANDARD
TZOFFSETFROM:+1100
TZOFFSETTO:+1000
TZNAME:AEST
DTSTART:20270403T160000
END:STANDARD
BEGIN:DAYLIGHT
TZOFFSETFROM:+1000
TZOFFSETTO:+1100
TZNAME:AEDT
DTSTART:20271002T160000
END:DAYLIGHT
END:VTIMEZONE
BEGIN:VEVENT
DTSTART;TZID=Australia/Melbourne:20260218T193000
DTEND;TZID=Australia/Melbourne:20260218T210000
DTSTAMP:20260426T112848
CREATED:20260113T050149Z
LAST-MODIFIED:20260113T214147Z
UID:10000501-1771443000-1771448400@emphn.org.au
SUMMARY:Diagnostic Challenges and Management of Depression in Older Adults
DESCRIPTION:Date\n\n\n\n\n\n\n\n\n\nVenue\n\n\n\n\n\n\n\n\n\nOrganiser\n\n\n\n\n\n\n\n\n\n\n\n\n\n\n\n\n\nDepression is not a normal part of ageing\, yet it affects nearly 50% of residents in aged care and presents frequently in General Practice. This webinar addresses the complexity of diagnosing older patients who often present with somatic complaints or memory concerns rather than sadness.  \n\n\n\nParticipants will learn to differentiate between depression\, delirium\, and dementia—the ‘Three Ds’—using clinical history and evidence-based screening tools like the Geriatric Depression Scale and Confusion Assessment Method. The session further explores management strategies\, including ‘start low\, go slow’ prescribing principles\, bio-psycho-social care planning\, and when to refer to specialist services. The webinar concludes with an interactive Q&A session to discuss specific clinical challenges. \n\n\n\nLearning outcomes:  \n\n\n\n1. Formulate a comprehensive bio-psycho-social management plan for older patients. \n\n\n\n2. Apply appropriate evidence-based screening tools to assess mental state and cognition in older adults. \n\n\n\n3. Differentiate between the clinical features of depression\, delirium\, and dementia (the “Three Ds”) to determine an accurate diagnosis. \n\n\n\nSpeakers:  \n\n\n\n\nDr Michelle Baek\, Psychiatrist\n\n\n\nMs Tanya Cottrell\, Manager\, Healthy Ageing Service\n\n\n\nDr Terence Chong\, Psychiatrist
URL:https://emphn.org.au/event/diagnostic-challenges-and-management-of-depression-in-older-adults/
LOCATION:Online\, ZOOM
CATEGORIES:External event
END:VEVENT
END:VCALENDAR