BEGIN:VCALENDAR
VERSION:2.0
PRODID:-//EMPHN - ECPv6.15.20//NONSGML v1.0//EN
CALSCALE:GREGORIAN
METHOD:PUBLISH
X-ORIGINAL-URL:https://emphn.org.au
X-WR-CALDESC:Events for EMPHN
REFRESH-INTERVAL;VALUE=DURATION:PT1H
X-Robots-Tag:noindex
X-PUBLISHED-TTL:PT1H
BEGIN:VTIMEZONE
TZID:Australia/Melbourne
BEGIN:STANDARD
TZOFFSETFROM:+1100
TZOFFSETTO:+1000
TZNAME:AEST
DTSTART:20250405T160000
END:STANDARD
BEGIN:DAYLIGHT
TZOFFSETFROM:+1000
TZOFFSETTO:+1100
TZNAME:AEDT
DTSTART:20251004T160000
END:DAYLIGHT
BEGIN:STANDARD
TZOFFSETFROM:+1100
TZOFFSETTO:+1000
TZNAME:AEST
DTSTART:20260404T160000
END:STANDARD
BEGIN:DAYLIGHT
TZOFFSETFROM:+1000
TZOFFSETTO:+1100
TZNAME:AEDT
DTSTART:20261003T160000
END:DAYLIGHT
BEGIN:STANDARD
TZOFFSETFROM:+1100
TZOFFSETTO:+1000
TZNAME:AEST
DTSTART:20270403T160000
END:STANDARD
BEGIN:DAYLIGHT
TZOFFSETFROM:+1000
TZOFFSETTO:+1100
TZNAME:AEDT
DTSTART:20271002T160000
END:DAYLIGHT
END:VTIMEZONE
BEGIN:VEVENT
DTSTART;TZID=Australia/Melbourne:20260512T113000
DTEND;TZID=Australia/Melbourne:20260512T120000
DTSTAMP:20260425T045917
CREATED:20260223T043719Z
LAST-MODIFIED:20260223T044509Z
UID:10000548-1778585400-1778587200@emphn.org.au
SUMMARY:NEMHSCA "Know Your Network" Snapshot Session - North East Metro Mental Health and Wellbeing Connect
DESCRIPTION:Date\n\n\n\n\n\n\n\n\n\nVenue\n\n\n\n\n\n\n\n\n\nOrganiser\n\n\n\n\n\n\n\n\n\n\n\n\n\n\n\n\n\nThese short\, focused sessions are designed to build understanding\, foster collaboration\, and make it easier for clinicians\, team leaders\, and lived and living experience workers to connect across services and better support consumers with co-occurring mental health and substance use needs. \n\n\n\n🕒 Session Format \n\n\n\n\n15-minute presentation – An overview of the featured service’s purpose\, roles\, access pathways\, and approach to practice.\n\n\n\n15-minute Q&A – Ask questions\, clarify referral processes\, and explore opportunities to collaborate.\n\n\n\nMonthly\, via Teams\n\n\n\nShowcasing a different service each month from the mental health\, AOD\, or related sectors\n\n\n\n\n👥 Who Should Attend? \n\n\n\nWhether you’re a clinician\, team leader\, or lived and living experience worker\, these sessions are designed to help you: \n\n\n\nAsk questions directly to service staff \n\n\n\nNavigate local referral pathways \n\n\n\nUnderstand service roles and eligibility
URL:https://emphn.org.au/event/nemhsca-know-your-network-snapshot-session-north-east-metro-mental-health-and-wellbeing-connect/
LOCATION:Online
CATEGORIES:EMPHN event,General practice,Health care professional
ORGANIZER;CN="NEMHSCA":MAILTO:agnieszka.kleparska@holstephealth.org.au
END:VEVENT
BEGIN:VEVENT
DTSTART;TZID=Australia/Melbourne:20260616T113000
DTEND;TZID=Australia/Melbourne:20260616T120000
DTSTAMP:20260425T045917
CREATED:20260223T043839Z
LAST-MODIFIED:20260223T044454Z
UID:10000549-1781609400-1781611200@emphn.org.au
SUMMARY:NEMHSCA "Know Your Network" Snapshot Session - Austin Health Adult and Older Adult Mental Health Division
DESCRIPTION:Date\n\n\n\n\n\n\n\n\n\nVenue\n\n\n\n\n\n\n\n\n\nOrganiser\n\n\n\n\n\n\n\n\n\n\n\n\n\n\n\n\n\nThese short\, focused sessions are designed to build understanding\, foster collaboration\, and make it easier for clinicians\, team leaders\, and lived and living experience workers to connect across services and better support consumers with co-occurring mental health and substance use needs. \n\n\n\n🕒 Session Format \n\n\n\n\n15-minute presentation – An overview of the featured service’s purpose\, roles\, access pathways\, and approach to practice.\n\n\n\n15-minute Q&A – Ask questions\, clarify referral processes\, and explore opportunities to collaborate.\n\n\n\nMonthly\, via Teams\n\n\n\nShowcasing a different service each month from the mental health\, AOD\, or related sectors\n\n\n\n\n👥 Who Should Attend? \n\n\n\nWhether you’re a clinician\, team leader\, or lived and living experience worker\, these sessions are designed to help you: \n\n\n\nAsk questions directly to service staff \n\n\n\nNavigate local referral pathways \n\n\n\nUnderstand service roles and eligibility
URL:https://emphn.org.au/event/nemhsca-know-your-network-snapshot-session-austin-health-adult-and-older-adult-mental-health-division/
LOCATION:Online
CATEGORIES:EMPHN event,General practice,Health care professional
ORGANIZER;CN="NEMHSCA":MAILTO:agnieszka.kleparska@holstephealth.org.au
END:VEVENT
END:VCALENDAR